BEGIN:VCALENDAR
VERSION:2.0
PRODID:-//Jagadish Christian.Com - ECPv6.15.20//NONSGML v1.0//EN
CALSCALE:GREGORIAN
METHOD:PUBLISH
X-ORIGINAL-URL:https://jagadishchristian.com
X-WR-CALDESC:Events for Jagadish Christian.Com
REFRESH-INTERVAL;VALUE=DURATION:PT1H
X-Robots-Tag:noindex
X-PUBLISHED-TTL:PT1H
BEGIN:VTIMEZONE
TZID:America/New_York
BEGIN:DAYLIGHT
TZOFFSETFROM:-0500
TZOFFSETTO:-0400
TZNAME:EDT
DTSTART:20170312T070000
END:DAYLIGHT
BEGIN:STANDARD
TZOFFSETFROM:-0400
TZOFFSETTO:-0500
TZNAME:EST
DTSTART:20171105T060000
END:STANDARD
BEGIN:DAYLIGHT
TZOFFSETFROM:-0500
TZOFFSETTO:-0400
TZNAME:EDT
DTSTART:20180311T070000
END:DAYLIGHT
BEGIN:STANDARD
TZOFFSETFROM:-0400
TZOFFSETTO:-0500
TZNAME:EST
DTSTART:20181104T060000
END:STANDARD
BEGIN:DAYLIGHT
TZOFFSETFROM:-0500
TZOFFSETTO:-0400
TZNAME:EDT
DTSTART:20190310T070000
END:DAYLIGHT
BEGIN:STANDARD
TZOFFSETFROM:-0400
TZOFFSETTO:-0500
TZNAME:EST
DTSTART:20191103T060000
END:STANDARD
END:VTIMEZONE
BEGIN:VEVENT
DTSTART;TZID=America/New_York:20180728T140000
DTEND;TZID=America/New_York:20180728T170000
DTSTAMP:20260419T091907
CREATED:20180714T030130Z
LAST-MODIFIED:20180721T133308Z
UID:10367-1532786400-1532797200@jagadishchristian.com
SUMMARY:Gujarati Mass celebrated by Fr. Lawrence Martis on Saturday\, July 28\, 2018
DESCRIPTION:Gujarati Catholic Samaj of USA invite all members and faithful to join us for a holy mass celebrated by Fr. Lawrence Martis\, the principal of St. Xavier’s High School\, Hansol. He is on his short visit to USA. \nFr. Alex is also in town and he will be joining us for the mass and get together.
URL:https://jagadishchristian.com/event/gujarati-mass-celebrated-by-fr-lawrence-martis-on-saturday-july-28-2018/
LOCATION:St. Anthony of Padua\, 615 8th Street\, Union City\, NJ\, 07087\, United States
END:VEVENT
END:VCALENDAR